BEGIN:VCALENDAR
VERSION:2.0
PRODID:-//Acres For Life - ECPv6.15.17.1//NONSGML v1.0//EN
CALSCALE:GREGORIAN
METHOD:PUBLISH
X-ORIGINAL-URL:https://www.acresforlife.org
X-WR-CALDESC:Events for Acres For Life
REFRESH-INTERVAL;VALUE=DURATION:PT1H
X-Robots-Tag:noindex
X-PUBLISHED-TTL:PT1H
BEGIN:VTIMEZONE
TZID:America/Chicago
BEGIN:DAYLIGHT
TZOFFSETFROM:-0600
TZOFFSETTO:-0500
TZNAME:CDT
DTSTART:20250309T080000
END:DAYLIGHT
BEGIN:STANDARD
TZOFFSETFROM:-0500
TZOFFSETTO:-0600
TZNAME:CST
DTSTART:20251102T070000
END:STANDARD
BEGIN:DAYLIGHT
TZOFFSETFROM:-0600
TZOFFSETTO:-0500
TZNAME:CDT
DTSTART:20260308T080000
END:DAYLIGHT
BEGIN:STANDARD
TZOFFSETFROM:-0500
TZOFFSETTO:-0600
TZNAME:CST
DTSTART:20261101T070000
END:STANDARD
BEGIN:DAYLIGHT
TZOFFSETFROM:-0600
TZOFFSETTO:-0500
TZNAME:CDT
DTSTART:20270314T080000
END:DAYLIGHT
BEGIN:STANDARD
TZOFFSETFROM:-0500
TZOFFSETTO:-0600
TZNAME:CST
DTSTART:20271107T070000
END:STANDARD
END:VTIMEZONE
BEGIN:VEVENT
DTSTART;TZID=America/Chicago:20260423T170000
DTEND;TZID=America/Chicago:20260423T200000
DTSTAMP:20260419T075749
CREATED:20250804T171227Z
LAST-MODIFIED:20250804T171227Z
UID:10000013-1776963600-1776974400@www.acresforlife.org
SUMMARY:Save the Date — 2026 Many Hat Gala
DESCRIPTION:
URL:https://www.acresforlife.org/event/save-the-date-2026-many-hat-gala/
LOCATION:MN
CATEGORIES:Many Hat Gala
ATTACH;FMTTYPE=image/png:https://www.acresforlife.org/wp-content/uploads/2025/08/The-Many-Hat-Gala-Social-13.png
END:VEVENT
BEGIN:VEVENT
DTSTART;TZID=America/Chicago:20260517T090000
DTEND;TZID=America/Chicago:20260517T170000
DTSTAMP:20260419T075749
CREATED:20260401T144232Z
LAST-MODIFIED:20260406T144156Z
UID:10000014-1779008400-1779037200@www.acresforlife.org
SUMMARY:Dare to Rise Women's retreat
DESCRIPTION:Join Us!\n			\n				\n				\n				\n				\n				CONNECT WITH OTHER WOMEN\, SPEND TIME WITH HORSES AND BREATHE DEEP!\nJoin us for a day of self-discovery as we “Dare to Rise” above life’s challenges and obstacles. \nThis workshop includes teaching based on the work of Brené Brown led by our Daring Way™ Trained Facilitator as well as horse experiential time. \nSPACE LIMITED!\nRSVP TODAY!HEATHER@ACRESFORLIFE651-257-4159
URL:https://www.acresforlife.org/event/dare-to-rise-womens-retreat/
LOCATION:Acres For Life\, 18323 July Ave N.\, Forest Lake\, MN\, 55025\, United States
CATEGORIES:Women's Retreat
ATTACH;FMTTYPE=image/webp:https://www.acresforlife.org/wp-content/uploads/2026/04/WomensRetreat2.webp
ORGANIZER;CN="Heather Jeffrey":MAILTO:heather@acresforlife.org
END:VEVENT
END:VCALENDAR